BEGIN:VCALENDAR
VERSION:2.0
PRODID:-//Wigan Swimming Club - Wasps - ECPv6.15.20//NONSGML v1.0//EN
CALSCALE:GREGORIAN
METHOD:PUBLISH
X-WR-CALNAME:Wigan Swimming Club - Wasps
X-ORIGINAL-URL:https://wiganswimmingclub.org.uk
X-WR-CALDESC:Events for Wigan Swimming Club - Wasps
REFRESH-INTERVAL;VALUE=DURATION:PT1H
X-Robots-Tag:noindex
X-PUBLISHED-TTL:PT1H
BEGIN:VTIMEZONE
TZID:Europe/London
BEGIN:DAYLIGHT
TZOFFSETFROM:+0000
TZOFFSETTO:+0100
TZNAME:BST
DTSTART:20230326T010000
END:DAYLIGHT
BEGIN:STANDARD
TZOFFSETFROM:+0100
TZOFFSETTO:+0000
TZNAME:GMT
DTSTART:20231029T010000
END:STANDARD
BEGIN:DAYLIGHT
TZOFFSETFROM:+0000
TZOFFSETTO:+0100
TZNAME:BST
DTSTART:20240331T010000
END:DAYLIGHT
BEGIN:STANDARD
TZOFFSETFROM:+0100
TZOFFSETTO:+0000
TZNAME:GMT
DTSTART:20241027T010000
END:STANDARD
BEGIN:DAYLIGHT
TZOFFSETFROM:+0000
TZOFFSETTO:+0100
TZNAME:BST
DTSTART:20250330T010000
END:DAYLIGHT
BEGIN:STANDARD
TZOFFSETFROM:+0100
TZOFFSETTO:+0000
TZNAME:GMT
DTSTART:20251026T010000
END:STANDARD
END:VTIMEZONE
BEGIN:VEVENT
DTSTART;TZID=Europe/London:20241116T080000
DTEND;TZID=Europe/London:20241117T170000
DTSTAMP:20260424T083406
CREATED:20241108T224408Z
LAST-MODIFIED:20241108T224418Z
UID:6525-1731744000-1731862800@wiganswimmingclub.org.uk
SUMMARY:Blackpool Lights 2024
DESCRIPTION:Blackpool Lights 2024 \nDates:16th and 17th November 2024 \nLicense No:3NW241691 \nVenue: Palatine Leisure Centre\, St Annes Road\, Blackpool\, FY4 2AP \nThis meet is now full\nAll BA training sessions cancelled the weekend of this gala \nThe meet is licensed at level 3 and shall be run under ASA Laws and Technical Rules and the promoters’ conditions. \nThe competition is open to all swimmers who are at least 9 years old on the final day of the meet and who are registered competitive members of the ASA (Club Complete).
URL:https://wiganswimmingclub.org.uk/calendar/blackpool-lights-2024/
LOCATION:Palatine Leisure Centre\, 207 St Anne's Rd\, Blackpool\, FY4 2AP
CATEGORIES:Club Events,Galas
END:VEVENT
END:VCALENDAR