BEGIN:VCALENDAR
VERSION:2.0
PRODID:-//Wigan Swimming Club - Wasps - ECPv6.15.20//NONSGML v1.0//EN
CALSCALE:GREGORIAN
METHOD:PUBLISH
X-ORIGINAL-URL:https://wiganswimmingclub.org.uk
X-WR-CALDESC:Events for Wigan Swimming Club - Wasps
REFRESH-INTERVAL;VALUE=DURATION:PT1H
X-Robots-Tag:noindex
X-PUBLISHED-TTL:PT1H
BEGIN:VTIMEZONE
TZID:Europe/London
BEGIN:DAYLIGHT
TZOFFSETFROM:+0000
TZOFFSETTO:+0100
TZNAME:BST
DTSTART:20250330T010000
END:DAYLIGHT
BEGIN:STANDARD
TZOFFSETFROM:+0100
TZOFFSETTO:+0000
TZNAME:GMT
DTSTART:20251026T010000
END:STANDARD
BEGIN:DAYLIGHT
TZOFFSETFROM:+0000
TZOFFSETTO:+0100
TZNAME:BST
DTSTART:20260329T010000
END:DAYLIGHT
BEGIN:STANDARD
TZOFFSETFROM:+0100
TZOFFSETTO:+0000
TZNAME:GMT
DTSTART:20261025T010000
END:STANDARD
BEGIN:DAYLIGHT
TZOFFSETFROM:+0000
TZOFFSETTO:+0100
TZNAME:BST
DTSTART:20270328T010000
END:DAYLIGHT
BEGIN:STANDARD
TZOFFSETFROM:+0100
TZOFFSETTO:+0000
TZNAME:GMT
DTSTART:20271031T010000
END:STANDARD
END:VTIMEZONE
BEGIN:VEVENT
DTSTART;TZID=Europe/London:20260517T080000
DTEND;TZID=Europe/London:20260517T170000
DTSTAMP:20260419T145713
CREATED:20260116T135943Z
LAST-MODIFIED:20260116T141032Z
UID:7061-1779004800-1779037200@wiganswimmingclub.org.uk
SUMMARY:Micro League Knowsley - Event 2 of 3
DESCRIPTION:Micro League Knowsley – Week 2 of 3 \nMore info to follow
URL:https://wiganswimmingclub.org.uk/calendar/micro-league-knowsley-week-2-of-3/
LOCATION:Knowsley Leisure and Culture Park\, Longview Drive\, Liverpool\, L36 6EG\, United Kingdom
END:VEVENT
BEGIN:VEVENT
DTSTART;TZID=Europe/London:20260531T080000
DTEND;TZID=Europe/London:20260531T170000
DTSTAMP:20260419T145713
CREATED:20260116T140027Z
LAST-MODIFIED:20260116T140027Z
UID:7062-1780214400-1780246800@wiganswimmingclub.org.uk
SUMMARY:Wigan Wasps Summer Sizzler
DESCRIPTION:Wigan Wasps Summer Sizzler \nMore info to follow
URL:https://wiganswimmingclub.org.uk/calendar/wigan-wasps-summer-sizzler/
LOCATION:Wigan Life Centre
END:VEVENT
END:VCALENDAR