BEGIN:VCALENDAR
VERSION:2.0
PRODID:-//Wigan Swimming Club - Wasps - ECPv6.15.20//NONSGML v1.0//EN
CALSCALE:GREGORIAN
METHOD:PUBLISH
X-WR-CALNAME:Wigan Swimming Club - Wasps
X-ORIGINAL-URL:https://wiganswimmingclub.org.uk
X-WR-CALDESC:Events for Wigan Swimming Club - Wasps
REFRESH-INTERVAL;VALUE=DURATION:PT1H
X-Robots-Tag:noindex
X-PUBLISHED-TTL:PT1H
BEGIN:VTIMEZONE
TZID:Europe/London
BEGIN:DAYLIGHT
TZOFFSETFROM:+0000
TZOFFSETTO:+0100
TZNAME:BST
DTSTART:20250330T010000
END:DAYLIGHT
BEGIN:STANDARD
TZOFFSETFROM:+0100
TZOFFSETTO:+0000
TZNAME:GMT
DTSTART:20251026T010000
END:STANDARD
BEGIN:DAYLIGHT
TZOFFSETFROM:+0000
TZOFFSETTO:+0100
TZNAME:BST
DTSTART:20260329T010000
END:DAYLIGHT
BEGIN:STANDARD
TZOFFSETFROM:+0100
TZOFFSETTO:+0000
TZNAME:GMT
DTSTART:20261025T010000
END:STANDARD
BEGIN:DAYLIGHT
TZOFFSETFROM:+0000
TZOFFSETTO:+0100
TZNAME:BST
DTSTART:20270328T010000
END:DAYLIGHT
BEGIN:STANDARD
TZOFFSETFROM:+0100
TZOFFSETTO:+0000
TZNAME:GMT
DTSTART:20271031T010000
END:STANDARD
END:VTIMEZONE
BEGIN:VEVENT
DTSTART;TZID=Europe/London:20260602T190000
DTEND;TZID=Europe/London:20260602T210000
DTSTAMP:20260419T161057
CREATED:20260116T140841Z
LAST-MODIFIED:20260116T140841Z
UID:7069-1780426800-1780434000@wiganswimmingclub.org.uk
SUMMARY:Mini League Hindley – League Event 3 of 3
DESCRIPTION:Mini League Hindley – League Event 3 of 3 \nMore info to follow
URL:https://wiganswimmingclub.org.uk/calendar/mini-league-hindley-league-event-3-of-3/
LOCATION:Hindley Community Pool\, Borsdane Avenue\, Hindley\, Wigan\, Lancashire\, WN2 3QN\, United Kingdom
END:VEVENT
BEGIN:VEVENT
DTSTART;TZID=Europe/London:20260614T080000
DTEND;TZID=Europe/London:20260614T170000
DTSTAMP:20260419T161057
CREATED:20260116T140105Z
LAST-MODIFIED:20260116T140741Z
UID:7063-1781424000-1781456400@wiganswimmingclub.org.uk
SUMMARY:Mini League Wigan - League Event 2 of 3
DESCRIPTION:Mini League Wigan – Week 1 of 3 \nMore info to follow
URL:https://wiganswimmingclub.org.uk/calendar/mini-league-wigan-week-1-of-3/
LOCATION:Wigan Life Centre
END:VEVENT
BEGIN:VEVENT
DTSTART;TZID=Europe/London:20260619T080000
DTEND;TZID=Europe/London:20260619T170000
DTSTAMP:20260419T161057
CREATED:20260116T140140Z
LAST-MODIFIED:20260116T140727Z
UID:7064-1781856000-1781888400@wiganswimmingclub.org.uk
SUMMARY:Mini League Oldham - League Event 3 of 3
DESCRIPTION:Mini League Oldham – Week 2 of 3 \nMore info to follow
URL:https://wiganswimmingclub.org.uk/calendar/mini-league-oldham-week-2-of-3/
LOCATION:Oldham Leisure Centre\, Middleton Road\, Oldham\, OL9 6AF
END:VEVENT
BEGIN:VEVENT
DTSTART;TZID=Europe/London:20260620T080000
DTEND;TZID=Europe/London:20260621T170000
DTSTAMP:20260419T161057
CREATED:20260116T140215Z
LAST-MODIFIED:20260116T140215Z
UID:7065-1781942400-1782061200@wiganswimmingclub.org.uk
SUMMARY:Wigan BEST Future Stars
DESCRIPTION:Wigan BEST Future Stars \nMore info to follow
URL:https://wiganswimmingclub.org.uk/calendar/wigan-best-future-stars/
LOCATION:Wigan Life Centre
END:VEVENT
BEGIN:VEVENT
DTSTART;TZID=Europe/London:20260627T080000
DTEND;TZID=Europe/London:20260627T170000
DTSTAMP:20260419T161057
CREATED:20260116T140301Z
LAST-MODIFIED:20260116T141048Z
UID:7066-1782547200-1782579600@wiganswimmingclub.org.uk
SUMMARY:Micro League Blackpool - Event 3 of 3
DESCRIPTION:Micro League Blackpool – Week 3 of 3 \nMore info to follow
URL:https://wiganswimmingclub.org.uk/calendar/micro-league-blackpool-week-3-of-3/
LOCATION:Palatine Leisure Centre\, 207 St Anne's Rd\, Blackpool\, FY4 2AP
END:VEVENT
END:VCALENDAR