BEGIN:VCALENDAR
VERSION:2.0
PRODID:-//Wigan Swimming Club - Wasps - ECPv6.15.20//NONSGML v1.0//EN
CALSCALE:GREGORIAN
METHOD:PUBLISH
X-WR-CALNAME:Wigan Swimming Club - Wasps
X-ORIGINAL-URL:https://wiganswimmingclub.org.uk
X-WR-CALDESC:Events for Wigan Swimming Club - Wasps
REFRESH-INTERVAL;VALUE=DURATION:PT1H
X-Robots-Tag:noindex
X-PUBLISHED-TTL:PT1H
BEGIN:VTIMEZONE
TZID:Europe/London
BEGIN:DAYLIGHT
TZOFFSETFROM:+0000
TZOFFSETTO:+0100
TZNAME:BST
DTSTART:20250330T010000
END:DAYLIGHT
BEGIN:STANDARD
TZOFFSETFROM:+0100
TZOFFSETTO:+0000
TZNAME:GMT
DTSTART:20251026T010000
END:STANDARD
BEGIN:DAYLIGHT
TZOFFSETFROM:+0000
TZOFFSETTO:+0100
TZNAME:BST
DTSTART:20260329T010000
END:DAYLIGHT
BEGIN:STANDARD
TZOFFSETFROM:+0100
TZOFFSETTO:+0000
TZNAME:GMT
DTSTART:20261025T010000
END:STANDARD
BEGIN:DAYLIGHT
TZOFFSETFROM:+0000
TZOFFSETTO:+0100
TZNAME:BST
DTSTART:20270328T010000
END:DAYLIGHT
BEGIN:STANDARD
TZOFFSETFROM:+0100
TZOFFSETTO:+0000
TZNAME:GMT
DTSTART:20271031T010000
END:STANDARD
END:VTIMEZONE
BEGIN:VEVENT
DTSTART;TZID=Europe/London:20260705T080000
DTEND;TZID=Europe/London:20260705T170000
DTSTAMP:20260419T173125
CREATED:20260116T140338Z
LAST-MODIFIED:20260116T140338Z
UID:7067-1783238400-1783270800@wiganswimmingclub.org.uk
SUMMARY:Wigan Wasps Club Championships
DESCRIPTION:Wigan Wasps Club Championships \nMore info to follow
URL:https://wiganswimmingclub.org.uk/calendar/wigan-wasps-club-championships/
LOCATION:Wigan Life Centre
END:VEVENT
BEGIN:VEVENT
DTSTART;TZID=Europe/London:20260711T080000
DTEND;TZID=Europe/London:20260712T170000
DTSTAMP:20260419T173125
CREATED:20260116T140408Z
LAST-MODIFIED:20260116T140408Z
UID:7068-1783756800-1783875600@wiganswimmingclub.org.uk
SUMMARY:Manchester Non International Gala
DESCRIPTION:Manchester Non International Gala \nMore info to follow
URL:https://wiganswimmingclub.org.uk/calendar/manchester-non-international-gala/
LOCATION:Manchester Aquatics Centre\, 2 Booth Street East\, Ardwick\, Manchester\, M13 9SS \, United Kingdom
END:VEVENT
END:VCALENDAR